BEGIN:VCALENDAR
VERSION:2.0
PRODID:-//wp-events-plugin.com//7.2.3.1//EN
TZID:Europe/Zurich
X-WR-TIMEZONE:Europe/Zurich
BEGIN:VEVENT
UID:246@rheinbad-breite.ch
DTSTART;TZID=Europe/Zurich:20261017T000000
DTEND;TZID=Europe/Zurich:20261017T000000
DTSTAMP:20260319T162019Z
URL:https://rheinbad-breite.ch/events/saisonstart-sauna-am-rhy-2/
SUMMARY:Saisonstart Sauna am Rhy
DESCRIPTION:Der wohlige Ort im Winter.
CATEGORIES:Öffentlich
END:VEVENT
BEGIN:VTIMEZONE
TZID:Europe/Zurich
X-LIC-LOCATION:Europe/Zurich
BEGIN:DAYLIGHT
DTSTART:20260329T030000
TZOFFSETFROM:+0100
TZOFFSETTO:+0200
TZNAME:CEST
END:DAYLIGHT
END:VTIMEZONE
END:VCALENDAR