BEGIN:VCALENDAR
VERSION:2.0
PRODID:-//wp-events-plugin.com//7.2.3.1//EN
TZID:Europe/Zurich
X-WR-TIMEZONE:Europe/Zurich
BEGIN:VEVENT
UID:142@rheinbad-breite.ch
DTSTART;TZID=Europe/Zurich:20250805T070000
DTEND;TZID=Europe/Zurich:20250805T074500
DTSTAMP:20260329T100033Z
URL:https://rheinbad-breite.ch/events/yoga-mit-spirit-studio-2025-08-05/
SUMMARY:Yoga mit Spirit Studio
DESCRIPTION:Anmeldung via Stundenplan
CATEGORIES:Bewegung
END:VEVENT
BEGIN:VTIMEZONE
TZID:Europe/Zurich
X-LIC-LOCATION:Europe/Zurich
BEGIN:DAYLIGHT
DTSTART:20250330T030000
TZOFFSETFROM:+0100
TZOFFSETTO:+0200
TZNAME:CEST
END:DAYLIGHT
END:VTIMEZONE
END:VCALENDAR